BEGIN:VCALENDAR
VERSION:2.0
PRODID:-//LM AUTO ECOLE - ECPv6.10.1.1//NONSGML v1.0//EN
CALSCALE:GREGORIAN
METHOD:PUBLISH
X-WR-CALNAME:LM AUTO ECOLE
X-ORIGINAL-URL:https://www.lmauto-ecole.fr
X-WR-CALDESC:Évènements pour LM AUTO ECOLE
REFRESH-INTERVAL;VALUE=DURATION:PT1H
X-Robots-Tag:noindex
X-PUBLISHED-TTL:PT1H
BEGIN:VTIMEZONE
TZID:Europe/Paris
BEGIN:DAYLIGHT
TZOFFSETFROM:+0100
TZOFFSETTO:+0200
TZNAME:CEST
DTSTART:20260329T010000
END:DAYLIGHT
BEGIN:STANDARD
TZOFFSETFROM:+0200
TZOFFSETTO:+0100
TZNAME:CET
DTSTART:20261025T010000
END:STANDARD
END:VTIMEZONE
BEGIN:VEVENT
DTSTART;TZID=Europe/Paris:20260402T160000
DTEND;TZID=Europe/Paris:20260402T170000
DTSTAMP:20260421T142357
CREATED:20260410T145111Z
LAST-MODIFIED:20260410T145111Z
UID:10000976-1775145600-1775149200@www.lmauto-ecole.fr
SUMMARY:[Cours] Arrêt et Stationnement
DESCRIPTION:L’arrêt et le stationnement constituent des situations réglementées qui exigent du conducteur le respect des règles du code de la route afin d’assurer la sécurité et la bonne organisaton de la circulation.
URL:https://www.lmauto-ecole.fr/event/cours-arret-et-stationnement-2/
LOCATION:Auto école La Croix Georgette\, 9 Rue du Folleray\, LE MANS\, 72000\, France
CATEGORIES:CODE LA CROIX GEORGETTE
ATTACH;FMTTYPE=image/png:https://www.lmauto-ecole.fr/storage/2026/04/image-cours-arret-et-stationnement.png
END:VEVENT
BEGIN:VEVENT
DTSTART;TZID=Europe/Paris:20260402T160000
DTEND;TZID=Europe/Paris:20260402T170000
DTSTAMP:20260421T142357
CREATED:20260410T145230Z
LAST-MODIFIED:20260410T145230Z
UID:10000977-1775145600-1775149200@www.lmauto-ecole.fr
SUMMARY:[Cours] Arrêt et Stationnement
DESCRIPTION:L’arrêt et le stationnement constituent des situations réglementées qui exigent du conducteur le respect des règles du code de la route afin d’assurer la sécurité et la bonne organisaton de la circulation.
URL:https://www.lmauto-ecole.fr/event/cours-arret-et-stationnement-3/
LOCATION:Auto école Université\, 20 avenue René Laennec\, Le Mans\, 72000\, France
CATEGORIES:CODE UNIVERSITE
ATTACH;FMTTYPE=image/png:https://www.lmauto-ecole.fr/storage/2026/04/image-cours-arret-et-stationnement.png
END:VEVENT
END:VCALENDAR