BEGIN:VCALENDAR
VERSION:2.0
PRODID:-//LM AUTO ECOLE - ECPv6.10.1.1//NONSGML v1.0//EN
CALSCALE:GREGORIAN
METHOD:PUBLISH
X-WR-CALNAME:LM AUTO ECOLE
X-ORIGINAL-URL:https://www.lmauto-ecole.fr
X-WR-CALDESC:Évènements pour LM AUTO ECOLE
REFRESH-INTERVAL;VALUE=DURATION:PT1H
X-Robots-Tag:noindex
X-PUBLISHED-TTL:PT1H
BEGIN:VTIMEZONE
TZID:Europe/Paris
BEGIN:DAYLIGHT
TZOFFSETFROM:+0100
TZOFFSETTO:+0200
TZNAME:CEST
DTSTART:20260329T010000
END:DAYLIGHT
BEGIN:STANDARD
TZOFFSETFROM:+0200
TZOFFSETTO:+0100
TZNAME:CET
DTSTART:20261025T010000
END:STANDARD
END:VTIMEZONE
BEGIN:VEVENT
DTSTART;TZID=Europe/Paris:20260424T160000
DTEND;TZID=Europe/Paris:20260424T170000
DTSTAMP:20260421T142459
CREATED:20260102T092643Z
LAST-MODIFIED:20260410T140359Z
UID:10000970-1777046400-1777050000@www.lmauto-ecole.fr
SUMMARY:[Cours] Intersections et règles de priorité ND
DESCRIPTION:Apprenez à identifier les différents types d’intersections et à appliquer les règles de priorité pour circuler en toute sécurité et éviter les infractions.
URL:https://www.lmauto-ecole.fr/event/cours-intersections-et-regles-de-priorite-nd/2026-04-24/
CATEGORIES:CODE NOTRE DAME
ATTACH;FMTTYPE=image/png:https://www.lmauto-ecole.fr/storage/2025/06/Image-cours-a-theme-INTERSECTIONS.png
END:VEVENT
BEGIN:VEVENT
DTSTART;TZID=Europe/Paris:20260424T160000
DTEND;TZID=Europe/Paris:20260424T170000
DTSTAMP:20260421T142459
CREATED:20260410T144825Z
LAST-MODIFIED:20260410T144825Z
UID:10000975-1777046400-1777050000@www.lmauto-ecole.fr
SUMMARY:[Cours] Arrêt et Stationnement
DESCRIPTION:L’arrêt et le stationnement constituent des situations réglementées qui exigent du conducteur le respect des règles du code de la route afin d’assurer la sécurité et la bonne organisaton de la circulation.
URL:https://www.lmauto-ecole.fr/event/cours-arret-et-stationnement/
LOCATION:Auto Ecole Notre Dame\, 35 Av. François Mitterrand\, LE MANS\, 72000\, France
CATEGORIES:CODE NOTRE DAME
ATTACH;FMTTYPE=image/png:https://www.lmauto-ecole.fr/storage/2026/04/image-cours-arret-et-stationnement.png
END:VEVENT
END:VCALENDAR