BEGIN:VCALENDAR
VERSION:2.0
PRODID:-//LM AUTO ECOLE - ECPv6.10.1.1//NONSGML v1.0//EN
CALSCALE:GREGORIAN
METHOD:PUBLISH
X-WR-CALNAME:LM AUTO ECOLE
X-ORIGINAL-URL:https://www.lmauto-ecole.fr
X-WR-CALDESC:Évènements pour LM AUTO ECOLE
REFRESH-INTERVAL;VALUE=DURATION:PT1H
X-Robots-Tag:noindex
X-PUBLISHED-TTL:PT1H
BEGIN:VTIMEZONE
TZID:Europe/Paris
BEGIN:DAYLIGHT
TZOFFSETFROM:+0100
TZOFFSETTO:+0200
TZNAME:CEST
DTSTART:20260329T010000
END:DAYLIGHT
BEGIN:STANDARD
TZOFFSETFROM:+0200
TZOFFSETTO:+0100
TZNAME:CET
DTSTART:20261025T010000
END:STANDARD
END:VTIMEZONE
BEGIN:VEVENT
DTSTART;TZID=Europe/Paris:20260328T120000
DTEND;TZID=Europe/Paris:20260328T130000
DTSTAMP:20260421T184302
CREATED:20250610T214943Z
LAST-MODIFIED:20260105T111453Z
UID:10000060-1774699200-1774702800@www.lmauto-ecole.fr
SUMMARY:[code] Examen blanc ND
DESCRIPTION:Entraînez-vous dans les conditions réelles de l’examen pour évaluer vos connaissances et repérer les points à renforcer avant le jour J.
URL:https://www.lmauto-ecole.fr/event/code-examen-blanc/2026-03-28/
LOCATION:Auto Ecole Notre Dame\, 35 Av. François Mitterrand\, LE MANS\, 72000\, France
CATEGORIES:CODE NOTRE DAME
ATTACH;FMTTYPE=image/jpeg:https://www.lmauto-ecole.fr/storage/2025/06/Image-EXAMEN-BLANC-CODE.jpg
END:VEVENT
BEGIN:VEVENT
DTSTART;TZID=Europe/Paris:20260321T120000
DTEND;TZID=Europe/Paris:20260321T130000
DTSTAMP:20260421T184302
CREATED:20250610T214943Z
LAST-MODIFIED:20260105T111453Z
UID:10000059-1774094400-1774098000@www.lmauto-ecole.fr
SUMMARY:[code] Examen blanc ND
DESCRIPTION:Entraînez-vous dans les conditions réelles de l’examen pour évaluer vos connaissances et repérer les points à renforcer avant le jour J.
URL:https://www.lmauto-ecole.fr/event/code-examen-blanc/2026-03-21/
LOCATION:Auto Ecole Notre Dame\, 35 Av. François Mitterrand\, LE MANS\, 72000\, France
CATEGORIES:CODE NOTRE DAME
ATTACH;FMTTYPE=image/jpeg:https://www.lmauto-ecole.fr/storage/2025/06/Image-EXAMEN-BLANC-CODE.jpg
END:VEVENT
BEGIN:VEVENT
DTSTART;TZID=Europe/Paris:20260314T120000
DTEND;TZID=Europe/Paris:20260314T130000
DTSTAMP:20260421T184302
CREATED:20250610T214943Z
LAST-MODIFIED:20260105T111453Z
UID:10000058-1773489600-1773493200@www.lmauto-ecole.fr
SUMMARY:[code] Examen blanc ND
DESCRIPTION:Entraînez-vous dans les conditions réelles de l’examen pour évaluer vos connaissances et repérer les points à renforcer avant le jour J.
URL:https://www.lmauto-ecole.fr/event/code-examen-blanc/2026-03-14/
LOCATION:Auto Ecole Notre Dame\, 35 Av. François Mitterrand\, LE MANS\, 72000\, France
CATEGORIES:CODE NOTRE DAME
ATTACH;FMTTYPE=image/jpeg:https://www.lmauto-ecole.fr/storage/2025/06/Image-EXAMEN-BLANC-CODE.jpg
END:VEVENT
BEGIN:VEVENT
DTSTART;TZID=Europe/Paris:20260307T120000
DTEND;TZID=Europe/Paris:20260307T130000
DTSTAMP:20260421T184302
CREATED:20250610T214943Z
LAST-MODIFIED:20260105T111453Z
UID:10000057-1772884800-1772888400@www.lmauto-ecole.fr
SUMMARY:[code] Examen blanc ND
DESCRIPTION:Entraînez-vous dans les conditions réelles de l’examen pour évaluer vos connaissances et repérer les points à renforcer avant le jour J.
URL:https://www.lmauto-ecole.fr/event/code-examen-blanc/2026-03-07/
LOCATION:Auto Ecole Notre Dame\, 35 Av. François Mitterrand\, LE MANS\, 72000\, France
CATEGORIES:CODE NOTRE DAME
ATTACH;FMTTYPE=image/jpeg:https://www.lmauto-ecole.fr/storage/2025/06/Image-EXAMEN-BLANC-CODE.jpg
END:VEVENT
BEGIN:VEVENT
DTSTART;TZID=Europe/Paris:20260228T120000
DTEND;TZID=Europe/Paris:20260228T130000
DTSTAMP:20260421T184302
CREATED:20250610T214943Z
LAST-MODIFIED:20260105T111453Z
UID:10000056-1772280000-1772283600@www.lmauto-ecole.fr
SUMMARY:[code] Examen blanc ND
DESCRIPTION:Entraînez-vous dans les conditions réelles de l’examen pour évaluer vos connaissances et repérer les points à renforcer avant le jour J.
URL:https://www.lmauto-ecole.fr/event/code-examen-blanc/2026-02-28/
LOCATION:Auto Ecole Notre Dame\, 35 Av. François Mitterrand\, LE MANS\, 72000\, France
CATEGORIES:CODE NOTRE DAME
ATTACH;FMTTYPE=image/jpeg:https://www.lmauto-ecole.fr/storage/2025/06/Image-EXAMEN-BLANC-CODE.jpg
END:VEVENT
BEGIN:VEVENT
DTSTART;TZID=Europe/Paris:20260221T120000
DTEND;TZID=Europe/Paris:20260221T130000
DTSTAMP:20260421T184302
CREATED:20250610T214943Z
LAST-MODIFIED:20260105T111453Z
UID:10000055-1771675200-1771678800@www.lmauto-ecole.fr
SUMMARY:[code] Examen blanc ND
DESCRIPTION:Entraînez-vous dans les conditions réelles de l’examen pour évaluer vos connaissances et repérer les points à renforcer avant le jour J.
URL:https://www.lmauto-ecole.fr/event/code-examen-blanc/2026-02-21/
LOCATION:Auto Ecole Notre Dame\, 35 Av. François Mitterrand\, LE MANS\, 72000\, France
CATEGORIES:CODE NOTRE DAME
ATTACH;FMTTYPE=image/jpeg:https://www.lmauto-ecole.fr/storage/2025/06/Image-EXAMEN-BLANC-CODE.jpg
END:VEVENT
BEGIN:VEVENT
DTSTART;TZID=Europe/Paris:20260214T120000
DTEND;TZID=Europe/Paris:20260214T130000
DTSTAMP:20260421T184302
CREATED:20250610T214943Z
LAST-MODIFIED:20260105T111453Z
UID:10000054-1771070400-1771074000@www.lmauto-ecole.fr
SUMMARY:[code] Examen blanc ND
DESCRIPTION:Entraînez-vous dans les conditions réelles de l’examen pour évaluer vos connaissances et repérer les points à renforcer avant le jour J.
URL:https://www.lmauto-ecole.fr/event/code-examen-blanc/2026-02-14/
LOCATION:Auto Ecole Notre Dame\, 35 Av. François Mitterrand\, LE MANS\, 72000\, France
CATEGORIES:CODE NOTRE DAME
ATTACH;FMTTYPE=image/jpeg:https://www.lmauto-ecole.fr/storage/2025/06/Image-EXAMEN-BLANC-CODE.jpg
END:VEVENT
BEGIN:VEVENT
DTSTART;TZID=Europe/Paris:20260207T120000
DTEND;TZID=Europe/Paris:20260207T130000
DTSTAMP:20260421T184302
CREATED:20250610T214943Z
LAST-MODIFIED:20260105T111453Z
UID:10000053-1770465600-1770469200@www.lmauto-ecole.fr
SUMMARY:[code] Examen blanc ND
DESCRIPTION:Entraînez-vous dans les conditions réelles de l’examen pour évaluer vos connaissances et repérer les points à renforcer avant le jour J.
URL:https://www.lmauto-ecole.fr/event/code-examen-blanc/2026-02-07/
LOCATION:Auto Ecole Notre Dame\, 35 Av. François Mitterrand\, LE MANS\, 72000\, France
CATEGORIES:CODE NOTRE DAME
ATTACH;FMTTYPE=image/jpeg:https://www.lmauto-ecole.fr/storage/2025/06/Image-EXAMEN-BLANC-CODE.jpg
END:VEVENT
BEGIN:VEVENT
DTSTART;TZID=Europe/Paris:20260131T120000
DTEND;TZID=Europe/Paris:20260131T130000
DTSTAMP:20260421T184302
CREATED:20260102T122644Z
LAST-MODIFIED:20260102T122644Z
UID:10000942-1769860800-1769864400@www.lmauto-ecole.fr
SUMMARY:[code] Examen Blanc - UNIV
DESCRIPTION:Entraînez-vous dans les conditions réelles de l’examen pour évaluer vos connaissances et repérer les points à renforcer avant le jour J.
URL:https://www.lmauto-ecole.fr/event/code-examen-blanc-univ/2026-01-31/
LOCATION:Auto école Université\, 20 avenue René Laennec\, Le Mans\, 72000\, France
CATEGORIES:CODE UNIVERSITE
ATTACH;FMTTYPE=image/jpeg:https://www.lmauto-ecole.fr/storage/2025/06/Image-EXAMEN-BLANC-CODE.jpg
END:VEVENT
BEGIN:VEVENT
DTSTART;TZID=Europe/Paris:20260131T120000
DTEND;TZID=Europe/Paris:20260131T130000
DTSTAMP:20260421T184302
CREATED:20250610T214943Z
LAST-MODIFIED:20260105T111453Z
UID:10000052-1769860800-1769864400@www.lmauto-ecole.fr
SUMMARY:[code] Examen blanc ND
DESCRIPTION:Entraînez-vous dans les conditions réelles de l’examen pour évaluer vos connaissances et repérer les points à renforcer avant le jour J.
URL:https://www.lmauto-ecole.fr/event/code-examen-blanc/2026-01-31/
LOCATION:Auto Ecole Notre Dame\, 35 Av. François Mitterrand\, LE MANS\, 72000\, France
CATEGORIES:CODE NOTRE DAME
ATTACH;FMTTYPE=image/jpeg:https://www.lmauto-ecole.fr/storage/2025/06/Image-EXAMEN-BLANC-CODE.jpg
END:VEVENT
BEGIN:VEVENT
DTSTART;TZID=Europe/Paris:20260130T170000
DTEND;TZID=Europe/Paris:20260130T180000
DTSTAMP:20260421T184302
CREATED:20260102T092945Z
LAST-MODIFIED:20260102T121234Z
UID:10000922-1769792400-1769796000@www.lmauto-ecole.fr
SUMMARY:[Cours] La Vitesse UNIV
DESCRIPTION:Maîtrisez les limitations\, les distances d’arrêt et l’adaptation de la vitesse selon les conditions pour conduire en toute sécurité.
URL:https://www.lmauto-ecole.fr/event/cours-la-vitesse-univ/2026-01-30/
LOCATION:Auto école Université\, 20 avenue René Laennec\, Le Mans\, 72000\, France
CATEGORIES:CODE UNIVERSITE
ATTACH;FMTTYPE=image/png:https://www.lmauto-ecole.fr/storage/2025/06/Image-cours-a-theme-LA-VITESSE.png
END:VEVENT
BEGIN:VEVENT
DTSTART;TZID=Europe/Paris:20260130T160000
DTEND;TZID=Europe/Paris:20260130T170000
DTSTAMP:20260421T184302
CREATED:20260102T122644Z
LAST-MODIFIED:20260102T122644Z
UID:10000941-1769788800-1769792400@www.lmauto-ecole.fr
SUMMARY:[code] Examen Blanc - UNIV
DESCRIPTION:Entraînez-vous dans les conditions réelles de l’examen pour évaluer vos connaissances et repérer les points à renforcer avant le jour J.
URL:https://www.lmauto-ecole.fr/event/code-examen-blanc-univ/2026-01-30/
LOCATION:Auto école Université\, 20 avenue René Laennec\, Le Mans\, 72000\, France
CATEGORIES:CODE UNIVERSITE
ATTACH;FMTTYPE=image/jpeg:https://www.lmauto-ecole.fr/storage/2025/06/Image-EXAMEN-BLANC-CODE.jpg
END:VEVENT
BEGIN:VEVENT
DTSTART;TZID=Europe/Paris:20260129T180000
DTEND;TZID=Europe/Paris:20260129T190000
DTSTAMP:20260421T184302
CREATED:20250610T214203Z
LAST-MODIFIED:20260102T121119Z
UID:10000920-1769709600-1769713200@www.lmauto-ecole.fr
SUMMARY:[Cours] Intersections et règles de priorité UNIV
DESCRIPTION:Apprenez à identifier les différents types d’intersections et à appliquer les règles de priorité pour circuler en toute sécurité et éviter les infractions.
URL:https://www.lmauto-ecole.fr/event/cours-intersections-et-regles-de-priorite/2026-01-29/
LOCATION:Auto école Université\, 20 avenue René Laennec\, Le Mans\, 72000\, France
CATEGORIES:CODE UNIVERSITE
ATTACH;FMTTYPE=image/png:https://www.lmauto-ecole.fr/storage/2025/06/Image-cours-a-theme-INTERSECTIONS.png
END:VEVENT
BEGIN:VEVENT
DTSTART;TZID=Europe/Paris:20260129T170000
DTEND;TZID=Europe/Paris:20260129T180000
DTSTAMP:20260421T184302
CREATED:20260102T122644Z
LAST-MODIFIED:20260102T122644Z
UID:10000940-1769706000-1769709600@www.lmauto-ecole.fr
SUMMARY:[code] Examen Blanc - UNIV
DESCRIPTION:Entraînez-vous dans les conditions réelles de l’examen pour évaluer vos connaissances et repérer les points à renforcer avant le jour J.
URL:https://www.lmauto-ecole.fr/event/code-examen-blanc-univ/2026-01-29/
LOCATION:Auto école Université\, 20 avenue René Laennec\, Le Mans\, 72000\, France
CATEGORIES:CODE UNIVERSITE
ATTACH;FMTTYPE=image/jpeg:https://www.lmauto-ecole.fr/storage/2025/06/Image-EXAMEN-BLANC-CODE.jpg
END:VEVENT
BEGIN:VEVENT
DTSTART;TZID=Europe/Paris:20260128T170000
DTEND;TZID=Europe/Paris:20260128T180000
DTSTAMP:20260421T184302
CREATED:20260102T122644Z
LAST-MODIFIED:20260102T122644Z
UID:10000939-1769619600-1769623200@www.lmauto-ecole.fr
SUMMARY:[code] Examen Blanc - UNIV
DESCRIPTION:Entraînez-vous dans les conditions réelles de l’examen pour évaluer vos connaissances et repérer les points à renforcer avant le jour J.
URL:https://www.lmauto-ecole.fr/event/code-examen-blanc-univ/2026-01-28/2/
LOCATION:Auto école Université\, 20 avenue René Laennec\, Le Mans\, 72000\, France
CATEGORIES:CODE UNIVERSITE
ATTACH;FMTTYPE=image/jpeg:https://www.lmauto-ecole.fr/storage/2025/06/Image-EXAMEN-BLANC-CODE.jpg
END:VEVENT
BEGIN:VEVENT
DTSTART;TZID=Europe/Paris:20260128T160000
DTEND;TZID=Europe/Paris:20260128T170000
DTSTAMP:20260421T184302
CREATED:20260102T122644Z
LAST-MODIFIED:20260102T122644Z
UID:10000938-1769616000-1769619600@www.lmauto-ecole.fr
SUMMARY:[code] Examen Blanc - UNIV
DESCRIPTION:Entraînez-vous dans les conditions réelles de l’examen pour évaluer vos connaissances et repérer les points à renforcer avant le jour J.
URL:https://www.lmauto-ecole.fr/event/code-examen-blanc-univ/2026-01-28/1/
LOCATION:Auto école Université\, 20 avenue René Laennec\, Le Mans\, 72000\, France
CATEGORIES:CODE UNIVERSITE
ATTACH;FMTTYPE=image/jpeg:https://www.lmauto-ecole.fr/storage/2025/06/Image-EXAMEN-BLANC-CODE.jpg
END:VEVENT
BEGIN:VEVENT
DTSTART;TZID=Europe/Paris:20260127T170000
DTEND;TZID=Europe/Paris:20260127T180000
DTSTAMP:20260421T184302
CREATED:20260102T093245Z
LAST-MODIFIED:20260102T110203Z
UID:10000918-1769533200-1769536800@www.lmauto-ecole.fr
SUMMARY:[Cours] Infractions et Sanctions UNIV
DESCRIPTION:Identifiez les comportements à risque\, comprenez les sanctions encourues et adoptez une conduite responsable pour éviter les pénalités.
URL:https://www.lmauto-ecole.fr/event/cours-infractions-et-sanctions-univ/2026-01-27/
LOCATION:Auto école Université\, 20 avenue René Laennec\, Le Mans\, 72000\, France
CATEGORIES:CODE UNIVERSITE
ATTACH;FMTTYPE=image/png:https://www.lmauto-ecole.fr/storage/2025/06/Image-cours-a-theme-INFRACTIONS-ET-SANCTIONS.png
END:VEVENT
BEGIN:VEVENT
DTSTART;TZID=Europe/Paris:20260124T120000
DTEND;TZID=Europe/Paris:20260124T130000
DTSTAMP:20260421T184302
CREATED:20260102T122644Z
LAST-MODIFIED:20260102T122644Z
UID:10000937-1769256000-1769259600@www.lmauto-ecole.fr
SUMMARY:[code] Examen Blanc - UNIV
DESCRIPTION:Entraînez-vous dans les conditions réelles de l’examen pour évaluer vos connaissances et repérer les points à renforcer avant le jour J.
URL:https://www.lmauto-ecole.fr/event/code-examen-blanc-univ/2026-01-24/
LOCATION:Auto école Université\, 20 avenue René Laennec\, Le Mans\, 72000\, France
CATEGORIES:CODE UNIVERSITE
ATTACH;FMTTYPE=image/jpeg:https://www.lmauto-ecole.fr/storage/2025/06/Image-EXAMEN-BLANC-CODE.jpg
END:VEVENT
BEGIN:VEVENT
DTSTART;TZID=Europe/Paris:20260124T120000
DTEND;TZID=Europe/Paris:20260124T130000
DTSTAMP:20260421T184302
CREATED:20250610T214943Z
LAST-MODIFIED:20260105T111453Z
UID:10000051-1769256000-1769259600@www.lmauto-ecole.fr
SUMMARY:[code] Examen blanc ND
DESCRIPTION:Entraînez-vous dans les conditions réelles de l’examen pour évaluer vos connaissances et repérer les points à renforcer avant le jour J.
URL:https://www.lmauto-ecole.fr/event/code-examen-blanc/2026-01-24/
LOCATION:Auto Ecole Notre Dame\, 35 Av. François Mitterrand\, LE MANS\, 72000\, France
CATEGORIES:CODE NOTRE DAME
ATTACH;FMTTYPE=image/jpeg:https://www.lmauto-ecole.fr/storage/2025/06/Image-EXAMEN-BLANC-CODE.jpg
END:VEVENT
BEGIN:VEVENT
DTSTART;TZID=Europe/Paris:20260123T170000
DTEND;TZID=Europe/Paris:20260123T180000
DTSTAMP:20260421T184302
CREATED:20260102T105913Z
LAST-MODIFIED:20260102T105913Z
UID:10000916-1769187600-1769191200@www.lmauto-ecole.fr
SUMMARY:[Cours] Conduite de nuit et par intempéries UNIV
DESCRIPTION:Apprenez à adapter votre conduite face à une visibilité réduite et des conditions météorologiques difficiles pour garantir votre sécurité et celle des autres usagers.
URL:https://www.lmauto-ecole.fr/event/cours-conduite-de-nuit-et-par-intemperies-univ/2026-01-23/
LOCATION:Auto école Université\, 20 avenue René Laennec\, Le Mans\, 72000\, France
CATEGORIES:CODE UNIVERSITE
ATTACH;FMTTYPE=image/png:https://www.lmauto-ecole.fr/storage/2025/06/Image-cours-a-theme-CONDUITE-NUIT-ET-INTEMPERIES.png
END:VEVENT
BEGIN:VEVENT
DTSTART;TZID=Europe/Paris:20260123T160000
DTEND;TZID=Europe/Paris:20260123T170000
DTSTAMP:20260421T184302
CREATED:20260102T122644Z
LAST-MODIFIED:20260102T122644Z
UID:10000936-1769184000-1769187600@www.lmauto-ecole.fr
SUMMARY:[code] Examen Blanc - UNIV
DESCRIPTION:Entraînez-vous dans les conditions réelles de l’examen pour évaluer vos connaissances et repérer les points à renforcer avant le jour J.
URL:https://www.lmauto-ecole.fr/event/code-examen-blanc-univ/2026-01-23/
LOCATION:Auto école Université\, 20 avenue René Laennec\, Le Mans\, 72000\, France
CATEGORIES:CODE UNIVERSITE
ATTACH;FMTTYPE=image/jpeg:https://www.lmauto-ecole.fr/storage/2025/06/Image-EXAMEN-BLANC-CODE.jpg
END:VEVENT
BEGIN:VEVENT
DTSTART;TZID=Europe/Paris:20260122T180000
DTEND;TZID=Europe/Paris:20260122T190000
DTSTAMP:20260421T184302
CREATED:20251002T135116Z
LAST-MODIFIED:20260102T104658Z
UID:10000652-1769104800-1769108400@www.lmauto-ecole.fr
SUMMARY:[Cours] Alcool\, drogues et médicaments UNIV
DESCRIPTION:Alcool\, drogues et médicaments – Comprenez les effets de ces substances sur la conduite et les risques légaux et physiques associés pour adopter une attitude responsable au volant.
URL:https://www.lmauto-ecole.fr/event/cours-alcool-drogues-et-medicaments-universite/2026-01-22/
LOCATION:Auto école Université\, 20 avenue René Laennec\, Le Mans\, 72000\, France
CATEGORIES:CODE UNIVERSITE
ATTACH;FMTTYPE=image/jpeg:https://www.lmauto-ecole.fr/storage/2025/05/IMAGE-COURS-a-THEME-ALCOOL-DROGUES-scaled.jpg
END:VEVENT
BEGIN:VEVENT
DTSTART;TZID=Europe/Paris:20260122T170000
DTEND;TZID=Europe/Paris:20260122T180000
DTSTAMP:20260421T184302
CREATED:20260102T122644Z
LAST-MODIFIED:20260102T122644Z
UID:10000935-1769101200-1769104800@www.lmauto-ecole.fr
SUMMARY:[code] Examen Blanc - UNIV
DESCRIPTION:Entraînez-vous dans les conditions réelles de l’examen pour évaluer vos connaissances et repérer les points à renforcer avant le jour J.
URL:https://www.lmauto-ecole.fr/event/code-examen-blanc-univ/2026-01-22/
LOCATION:Auto école Université\, 20 avenue René Laennec\, Le Mans\, 72000\, France
CATEGORIES:CODE UNIVERSITE
ATTACH;FMTTYPE=image/jpeg:https://www.lmauto-ecole.fr/storage/2025/06/Image-EXAMEN-BLANC-CODE.jpg
END:VEVENT
BEGIN:VEVENT
DTSTART;TZID=Europe/Paris:20260121T170000
DTEND;TZID=Europe/Paris:20260121T180000
DTSTAMP:20260421T184302
CREATED:20260102T122644Z
LAST-MODIFIED:20260102T122644Z
UID:10000934-1769014800-1769018400@www.lmauto-ecole.fr
SUMMARY:[code] Examen Blanc - UNIV
DESCRIPTION:Entraînez-vous dans les conditions réelles de l’examen pour évaluer vos connaissances et repérer les points à renforcer avant le jour J.
URL:https://www.lmauto-ecole.fr/event/code-examen-blanc-univ/2026-01-21/2/
LOCATION:Auto école Université\, 20 avenue René Laennec\, Le Mans\, 72000\, France
CATEGORIES:CODE UNIVERSITE
ATTACH;FMTTYPE=image/jpeg:https://www.lmauto-ecole.fr/storage/2025/06/Image-EXAMEN-BLANC-CODE.jpg
END:VEVENT
BEGIN:VEVENT
DTSTART;TZID=Europe/Paris:20260121T160000
DTEND;TZID=Europe/Paris:20260121T170000
DTSTAMP:20260421T184302
CREATED:20260102T122644Z
LAST-MODIFIED:20260102T122644Z
UID:10000933-1769011200-1769014800@www.lmauto-ecole.fr
SUMMARY:[code] Examen Blanc - UNIV
DESCRIPTION:Entraînez-vous dans les conditions réelles de l’examen pour évaluer vos connaissances et repérer les points à renforcer avant le jour J.
URL:https://www.lmauto-ecole.fr/event/code-examen-blanc-univ/2026-01-21/1/
LOCATION:Auto école Université\, 20 avenue René Laennec\, Le Mans\, 72000\, France
CATEGORIES:CODE UNIVERSITE
ATTACH;FMTTYPE=image/jpeg:https://www.lmauto-ecole.fr/storage/2025/06/Image-EXAMEN-BLANC-CODE.jpg
END:VEVENT
BEGIN:VEVENT
DTSTART;TZID=Europe/Paris:20260120T170000
DTEND;TZID=Europe/Paris:20260120T180000
DTSTAMP:20260421T184302
CREATED:20250718T105248Z
LAST-MODIFIED:20260102T104305Z
UID:10000650-1768928400-1768932000@www.lmauto-ecole.fr
SUMMARY:[Cours] Signalisation complexe UNIV
DESCRIPTION:Ce cours aborde la signalisation complexe pour apprendre à interpréter correctement les panneaux combinés\, temporaires ou inhabituels en situation réelle.
URL:https://www.lmauto-ecole.fr/event/cours-signalisation-complexe-univ/2026-01-20/
LOCATION:Auto école Université\, 20 avenue René Laennec\, Le Mans\, 72000\, France
CATEGORIES:CODE UNIVERSITE
ATTACH;FMTTYPE=image/png:https://www.lmauto-ecole.fr/storage/2025/06/image-cours-a-theme-SIGNALISATION-COMPLEXE.png
END:VEVENT
BEGIN:VEVENT
DTSTART;TZID=Europe/Paris:20260117T120000
DTEND;TZID=Europe/Paris:20260117T130000
DTSTAMP:20260421T184302
CREATED:20260102T122644Z
LAST-MODIFIED:20260102T122644Z
UID:10000932-1768651200-1768654800@www.lmauto-ecole.fr
SUMMARY:[code] Examen Blanc - UNIV
DESCRIPTION:Entraînez-vous dans les conditions réelles de l’examen pour évaluer vos connaissances et repérer les points à renforcer avant le jour J.
URL:https://www.lmauto-ecole.fr/event/code-examen-blanc-univ/2026-01-17/
LOCATION:Auto école Université\, 20 avenue René Laennec\, Le Mans\, 72000\, France
CATEGORIES:CODE UNIVERSITE
ATTACH;FMTTYPE=image/jpeg:https://www.lmauto-ecole.fr/storage/2025/06/Image-EXAMEN-BLANC-CODE.jpg
END:VEVENT
BEGIN:VEVENT
DTSTART;TZID=Europe/Paris:20260117T120000
DTEND;TZID=Europe/Paris:20260117T130000
DTSTAMP:20260421T184302
CREATED:20250610T214943Z
LAST-MODIFIED:20260105T111453Z
UID:10000050-1768651200-1768654800@www.lmauto-ecole.fr
SUMMARY:[code] Examen blanc ND
DESCRIPTION:Entraînez-vous dans les conditions réelles de l’examen pour évaluer vos connaissances et repérer les points à renforcer avant le jour J.
URL:https://www.lmauto-ecole.fr/event/code-examen-blanc/2026-01-17/
LOCATION:Auto Ecole Notre Dame\, 35 Av. François Mitterrand\, LE MANS\, 72000\, France
CATEGORIES:CODE NOTRE DAME
ATTACH;FMTTYPE=image/jpeg:https://www.lmauto-ecole.fr/storage/2025/06/Image-EXAMEN-BLANC-CODE.jpg
END:VEVENT
BEGIN:VEVENT
DTSTART;TZID=Europe/Paris:20260116T170000
DTEND;TZID=Europe/Paris:20260116T180000
DTSTAMP:20260421T184302
CREATED:20260102T092945Z
LAST-MODIFIED:20260102T121234Z
UID:10000921-1768582800-1768586400@www.lmauto-ecole.fr
SUMMARY:[Cours] La Vitesse UNIV
DESCRIPTION:Maîtrisez les limitations\, les distances d’arrêt et l’adaptation de la vitesse selon les conditions pour conduire en toute sécurité.
URL:https://www.lmauto-ecole.fr/event/cours-la-vitesse-univ/2026-01-16/
LOCATION:Auto école Université\, 20 avenue René Laennec\, Le Mans\, 72000\, France
CATEGORIES:CODE UNIVERSITE
ATTACH;FMTTYPE=image/png:https://www.lmauto-ecole.fr/storage/2025/06/Image-cours-a-theme-LA-VITESSE.png
END:VEVENT
BEGIN:VEVENT
DTSTART;TZID=Europe/Paris:20260116T160000
DTEND;TZID=Europe/Paris:20260116T170000
DTSTAMP:20260421T184302
CREATED:20260102T122644Z
LAST-MODIFIED:20260102T122644Z
UID:10000931-1768579200-1768582800@www.lmauto-ecole.fr
SUMMARY:[code] Examen Blanc - UNIV
DESCRIPTION:Entraînez-vous dans les conditions réelles de l’examen pour évaluer vos connaissances et repérer les points à renforcer avant le jour J.
URL:https://www.lmauto-ecole.fr/event/code-examen-blanc-univ/2026-01-16/
LOCATION:Auto école Université\, 20 avenue René Laennec\, Le Mans\, 72000\, France
CATEGORIES:CODE UNIVERSITE
ATTACH;FMTTYPE=image/jpeg:https://www.lmauto-ecole.fr/storage/2025/06/Image-EXAMEN-BLANC-CODE.jpg
END:VEVENT
END:VCALENDAR